BEGIN:VCALENDAR
PRODID:-//SINGPromos.com//NONSGML v1.0//EN
VERSION:2.0
CALSCALE:GREGORIAN
METHOD:PUBLISH
X-WR-CALNAME:SINGPromos.com
X-ORIGINAL-URL:https://singpromos.com
X-WR-CALDESC:Events for SINGPromos.com
BEGIN:VEVENT
DTSTART:20221216T000000
DTEND:20221231T235900
DTSTAMP:20260419T235453
CREATED:20221216T154647
LAST-MODIFIED:20221216T154803
UID:263288@https://singpromos.com
SUMMARY:Sheng Siong selling Ferrero Rocher chocolates at special price till 31 Dec 2022
DESCRIPTION:Special promotion. For more information, visit [ https://singpromos.com/dining-restaurants-food/sheng-siong-selling-ferrero-rocher-chocolates-at-special-price-till-31-dec-2022-263288/ ]. 
LOCATION:
URL:https://singpromos.com/dining-restaurants-food/sheng-siong-selling-ferrero-rocher-chocolates-at-special-price-till-31-dec-2022-263288/
END:VEVENT
END:VCALENDAR