BEGIN:VCALENDAR
PRODID:-//SINGPromos.com//NONSGML v1.0//EN
VERSION:2.0
CALSCALE:GREGORIAN
METHOD:PUBLISH
X-WR-CALNAME:SINGPromos.com
X-ORIGINAL-URL:https://singpromos.com
X-WR-CALDESC:Events for SINGPromos.com
BEGIN:VEVENT
DTSTART:20221223T000000
DTEND:20221226T235900
DTSTAMP:20260420T042601
CREATED:20221223T082823
LAST-MODIFIED:20221220T143338
UID:263396@https://singpromos.com
SUMMARY:Giant Pre-GST Hike Warehouse Sale from 23 - 26 December 2022
DESCRIPTION:Get big-ticket household items covered before the GST hike in 2023. For more information, visit [ https://singpromos.com/warehouse-sales/giant-pre-gst-hike-warehouse-sale-from-23-26-december-2022-263396/ ]. 
LOCATION:
URL:https://singpromos.com/warehouse-sales/giant-pre-gst-hike-warehouse-sale-from-23-26-december-2022-263396/
END:VEVENT
END:VCALENDAR