BEGIN:VCALENDAR
PRODID:-//SINGPromos.com//NONSGML v1.0//EN
VERSION:2.0
CALSCALE:GREGORIAN
METHOD:PUBLISH
X-WR-CALNAME:SINGPromos.com
X-ORIGINAL-URL:https://singpromos.com
X-WR-CALDESC:Events for SINGPromos.com
BEGIN:VEVENT
DTSTART:20221222T000000
DTEND:20221228T235900
DTSTAMP:20260424T034621
CREATED:20221222T175519
LAST-MODIFIED:20221222T181708
UID:263461@https://singpromos.com
SUMMARY:Giant is selling Ben & Jerry's ice cream at S$10.25 each when you buy two till 28 Dec 2022
DESCRIPTION:Time to stock up on Ben & Jerry's ice cream.. For more information, visit [ https://singpromos.com/dining-restaurants-food/giant-is-selling-ben-jerrys-ice-cream-at-s10-25-each-when-you-buy-two-till-28-dec-2022-263461/ ]. 
LOCATION:
URL:https://singpromos.com/dining-restaurants-food/giant-is-selling-ben-jerrys-ice-cream-at-s10-25-each-when-you-buy-two-till-28-dec-2022-263461/
END:VEVENT
END:VCALENDAR