BEGIN:VCALENDAR
PRODID:-//SINGPromos.com//NONSGML v1.0//EN
VERSION:2.0
CALSCALE:GREGORIAN
METHOD:PUBLISH
X-WR-CALNAME:SINGPromos.com
X-ORIGINAL-URL:https://singpromos.com
X-WR-CALDESC:Events for SINGPromos.com
BEGIN:VEVENT
DTSTART:20221224T000000
DTEND:20221226T235900
DTSTAMP:20260422T030127
CREATED:20221224T022830
LAST-MODIFIED:20221224T002915
UID:263486@https://singpromos.com
SUMMARY:Watsons S'pore offering 50% OFF when you buy two Watsons, Pure 'n Soft and Orita products till 26 Dec 2022
DESCRIPTION:Buy 2 at 50% OFF. For more information, visit [ https://singpromos.com/department-stores/watsons-spore-offering-50-off-when-you-buy-two-watsons-pure-n-soft-and-orita-products-till-26-dec-2022-263486/ ]. 
LOCATION:
URL:https://singpromos.com/department-stores/watsons-spore-offering-50-off-when-you-buy-two-watsons-pure-n-soft-and-orita-products-till-26-dec-2022-263486/
END:VEVENT
END:VCALENDAR