BEGIN:VCALENDAR
PRODID:-//SINGPromos.com//NONSGML v1.0//EN
VERSION:2.0
CALSCALE:GREGORIAN
METHOD:PUBLISH
X-WR-CALNAME:SINGPromos.com
X-ORIGINAL-URL:https://singpromos.com
X-WR-CALDESC:Events for SINGPromos.com
BEGIN:VEVENT
DTSTART:20230101T000000
DTEND:20230131T235900
DTSTAMP:20260420T043347
CREATED:20230101T173510
LAST-MODIFIED:20230101T173510
UID:263719@https://singpromos.com
SUMMARY:Geláre offering 1-for-1 waffle at selected outlets till 31 Jan 2023
DESCRIPTION:Promotion is valid for dine-in only. For more information, visit [ https://singpromos.com/dining-restaurants-food/gelare-offering-1-for-1-waffle-at-selected-outlets-till-31-jan-2023-263719/ ]. 
LOCATION:
URL:https://singpromos.com/dining-restaurants-food/gelare-offering-1-for-1-waffle-at-selected-outlets-till-31-jan-2023-263719/
END:VEVENT
END:VCALENDAR