BEGIN:VCALENDAR
PRODID:-//SINGPromos.com//NONSGML v1.0//EN
VERSION:2.0
CALSCALE:GREGORIAN
METHOD:PUBLISH
X-WR-CALNAME:SINGPromos.com
X-ORIGINAL-URL:https://singpromos.com
X-WR-CALDESC:Events for SINGPromos.com
BEGIN:VEVENT
DTSTART:20230105T000000
DTEND:20230120T235900
DTSTAMP:20260420T042628
CREATED:20230105T171240
LAST-MODIFIED:20230105T171240
UID:263914@https://singpromos.com
SUMMARY:Giant Tampines CNY night market at open air carpark till 20 Jan 2023
DESCRIPTION:Street foods, new shopping stalls and exciting games. For more information, visit [ https://singpromos.com/happenings/giant-tampines-cny-night-market-at-open-air-carpark-till-20-jan-2023-263914/ ]. 
LOCATION:528765
URL:https://singpromos.com/happenings/giant-tampines-cny-night-market-at-open-air-carpark-till-20-jan-2023-263914/
END:VEVENT
END:VCALENDAR