BEGIN:VCALENDAR
PRODID:-//SINGPromos.com//NONSGML v1.0//EN
VERSION:2.0
CALSCALE:GREGORIAN
METHOD:PUBLISH
X-WR-CALNAME:SINGPromos.com
X-ORIGINAL-URL:https://singpromos.com
X-WR-CALDESC:Events for SINGPromos.com
BEGIN:VEVENT
DTSTART:20230107T000000
DTEND:20230124T235900
DTSTAMP:20260422T204352
CREATED:20230106T135100
LAST-MODIFIED:20230106T135100
UID:263951@https://singpromos.com
SUMMARY:Fairprice Chinese New Year 2023 Extended Hours and Opening Hours
DESCRIPTION:View the details for the store nearest to you.. For more information, visit [ https://singpromos.com/department-stores/fairprice-chinese-new-year-2023-extended-hours-and-opening-hours-263951/ ]. 
LOCATION:
URL:https://singpromos.com/department-stores/fairprice-chinese-new-year-2023-extended-hours-and-opening-hours-263951/
END:VEVENT
END:VCALENDAR