BEGIN:VCALENDAR
PRODID:-//SINGPromos.com//NONSGML v1.0//EN
VERSION:2.0
CALSCALE:GREGORIAN
METHOD:PUBLISH
X-WR-CALNAME:SINGPromos.com
X-ORIGINAL-URL:https://singpromos.com
X-WR-CALDESC:Events for SINGPromos.com
BEGIN:VEVENT
DTSTART:20230210T000000
DTEND:20230210T235900
DTSTAMP:20260420T061925
CREATED:20230209T170609
LAST-MODIFIED:20230210T125009
UID:264035@https://singpromos.com
SUMMARY:POSB PAssion cardholders enjoy 1-FOR-1 at Gardens by the Bay, Cathay Cineplexes, Zoo & more on 10 Feb 2023
DESCRIPTION:Be it an exciting day of family fun, a romantic movie date or an enjoyable hangout with friends. For more information, visit [ https://singpromos.com/places-of-interest/posb-passion-cardholders-enjoy-1-for-1-offers-at-cathay-cineplexes-singapore-zoo-more-on-10-feb-2023-264035/ ]. 
LOCATION:
URL:https://singpromos.com/places-of-interest/posb-passion-cardholders-enjoy-1-for-1-offers-at-cathay-cineplexes-singapore-zoo-more-on-10-feb-2023-264035/
END:VEVENT
END:VCALENDAR