BEGIN:VCALENDAR
PRODID:-//SINGPromos.com//NONSGML v1.0//EN
VERSION:2.0
CALSCALE:GREGORIAN
METHOD:PUBLISH
X-WR-CALNAME:SINGPromos.com
X-ORIGINAL-URL:https://singpromos.com
X-WR-CALDESC:Events for SINGPromos.com
BEGIN:VEVENT
DTSTART:20230117T000000
DTEND:20230119T235900
DTSTAMP:20260420T182346
CREATED:20230117T114125
LAST-MODIFIED:20230117T114125
UID:264286@https://singpromos.com
SUMMARY:Jetstar's Prosperity Sale offers fares from S$63 to KL, Bangkok, Phuket, Bali, Penang and more - book by 19 Jan 2023
DESCRIPTION:Plan your next holiday from Singapore to Bali, Phuket, Kuala Lumpur, Penang and more with Jetstar's sale fares. For more information, visit [ https://singpromos.com/airlines-flights/jetstars-prosperity-sale-offers-fares-from-s63-to-kl-bangkok-phuket-bali-penang-and-more-book-by-19-jan-2023-264286/ ]. 
LOCATION:
URL:https://singpromos.com/airlines-flights/jetstars-prosperity-sale-offers-fares-from-s63-to-kl-bangkok-phuket-bali-penang-and-more-book-by-19-jan-2023-264286/
END:VEVENT
END:VCALENDAR