BEGIN:VCALENDAR
PRODID:-//SINGPromos.com//NONSGML v1.0//EN
VERSION:2.0
CALSCALE:GREGORIAN
METHOD:PUBLISH
X-WR-CALNAME:SINGPromos.com
X-ORIGINAL-URL:https://singpromos.com
X-WR-CALDESC:Events for SINGPromos.com
BEGIN:VEVENT
DTSTART:20230117T000000
DTEND:20230131T235900
DTSTAMP:20260420T044225
CREATED:20230117T210943
LAST-MODIFIED:20230117T211038
UID:264309@https://singpromos.com
SUMMARY:Awfully Chocolate is offering 1-for-1 Dark Chocolate Truffles, Gorgeous Truffles & more till 31 Jan 2023
DESCRIPTION:Made with the finest Belgian chocolate. For more information, visit [ https://singpromos.com/dining-restaurants-food/awfully-chocolate-is-offering-1-for-1-dark-chocolate-truffles-gorgeous-truffles-more-till-31-jan-2023-264309/ ]. 
LOCATION:
URL:https://singpromos.com/dining-restaurants-food/awfully-chocolate-is-offering-1-for-1-dark-chocolate-truffles-gorgeous-truffles-more-till-31-jan-2023-264309/
END:VEVENT
END:VCALENDAR