BEGIN:VCALENDAR
PRODID:-//SINGPromos.com//NONSGML v1.0//EN
VERSION:2.0
CALSCALE:GREGORIAN
METHOD:PUBLISH
X-WR-CALNAME:SINGPromos.com
X-ORIGINAL-URL:https://singpromos.com
X-WR-CALDESC:Events for SINGPromos.com
BEGIN:VEVENT
DTSTART:20230119T000000
DTEND:20230120T235900
DTSTAMP:20260420T042519
CREATED:20230119T124838
LAST-MODIFIED:20230119T124838
UID:264371@https://singpromos.com
SUMMARY:Giant Tampines selling live prawns at S$19.90/kg till 20 January 2023
DESCRIPTION:Live prawn sale alert. For more information, visit [ https://singpromos.com/dining-restaurants-food/giant-tampines-selling-live-prawns-at-s19-90-kg-till-20-january-2023-264371/ ]. 
LOCATION:528765
URL:https://singpromos.com/dining-restaurants-food/giant-tampines-selling-live-prawns-at-s19-90-kg-till-20-january-2023-264371/
END:VEVENT
END:VCALENDAR