BEGIN:VCALENDAR
PRODID:-//SINGPromos.com//NONSGML v1.0//EN
VERSION:2.0
CALSCALE:GREGORIAN
METHOD:PUBLISH
X-WR-CALNAME:SINGPromos.com
X-ORIGINAL-URL:https://singpromos.com
X-WR-CALDESC:Events for SINGPromos.com
BEGIN:VEVENT
DTSTART:20230206T000000
DTEND:20230212T235900
DTSTAMP:20260422T082143
CREATED:20230207T104410
LAST-MODIFIED:20230206T212101
UID:264755@https://singpromos.com
SUMMARY:McDonald's S'pore offering S$15.90 Family Meal (usual from S$19.40) deal till 12 Feb 2023
DESCRIPTION:For the Family. For more information, visit [ https://singpromos.com/dining-restaurants-food/mcdonalds-spore-offering-s15-90-family-meal-usual-from-s19-40-deal-till-12-feb-2023-264755/ ]. 
LOCATION:
URL:https://singpromos.com/dining-restaurants-food/mcdonalds-spore-offering-s15-90-family-meal-usual-from-s19-40-deal-till-12-feb-2023-264755/
END:VEVENT
END:VCALENDAR