BEGIN:VCALENDAR
PRODID:-//SINGPromos.com//NONSGML v1.0//EN
VERSION:2.0
CALSCALE:GREGORIAN
METHOD:PUBLISH
X-WR-CALNAME:SINGPromos.com
X-ORIGINAL-URL:https://singpromos.com
X-WR-CALDESC:Events for SINGPromos.com
BEGIN:VEVENT
DTSTART:20230209T000000
DTEND:20230212T235900
DTSTAMP:20260422T082307
CREATED:20230209T121742
LAST-MODIFIED:20230209T121742
UID:264819@https://singpromos.com
SUMMARY:Sheng Siong 4-Days Housebrand Promo has Rice, Choc Hazelnut Spread, Abalone, Rice, Coffee & more till 12 Feb
DESCRIPTION:Housebrand 4 days special promotion. For more information, visit [ https://singpromos.com/dining-restaurants-food/sheng-siong-4-days-housebrand-promo-has-rice-choc-hazelnut-spread-abalone-rice-coffee-more-till-12-feb-264819/ ]. 
LOCATION:
URL:https://singpromos.com/dining-restaurants-food/sheng-siong-4-days-housebrand-promo-has-rice-choc-hazelnut-spread-abalone-rice-coffee-more-till-12-feb-264819/
END:VEVENT
END:VCALENDAR