BEGIN:VCALENDAR
PRODID:-//SINGPromos.com//NONSGML v1.0//EN
VERSION:2.0
CALSCALE:GREGORIAN
METHOD:PUBLISH
X-WR-CALNAME:SINGPromos.com
X-ORIGINAL-URL:https://singpromos.com
X-WR-CALDESC:Events for SINGPromos.com
BEGIN:VEVENT
DTSTART:20230210T000000
DTEND:20230212T235900
DTSTAMP:20260422T082307
CREATED:20230210T112425
LAST-MODIFIED:20230210T112425
UID:264888@https://singpromos.com
SUMMARY:Sheng Siong 3-Days In-Store Specials has 1-for-1 Kinder Bueno, CJ Sliced Kimchi and more till 12 Feb 2023
DESCRIPTION:3 days specials. For more information, visit [ https://singpromos.com/dining-restaurants-food/sheng-siong-3-days-in-store-specials-has-1-for-1-kinder-bueno-cj-sliced-kimchi-and-more-till-12-feb-2023-264888/ ]. 
LOCATION:
URL:https://singpromos.com/dining-restaurants-food/sheng-siong-3-days-in-store-specials-has-1-for-1-kinder-bueno-cj-sliced-kimchi-and-more-till-12-feb-2023-264888/
END:VEVENT
END:VCALENDAR