BEGIN:VCALENDAR
PRODID:-//SINGPromos.com//NONSGML v1.0//EN
VERSION:2.0
CALSCALE:GREGORIAN
METHOD:PUBLISH
X-WR-CALNAME:SINGPromos.com
X-ORIGINAL-URL:https://singpromos.com
X-WR-CALDESC:Events for SINGPromos.com
BEGIN:VEVENT
DTSTART:20230211T000000
DTEND:20230212T235900
DTSTAMP:20260422T082305
CREATED:20230211T092245
LAST-MODIFIED:20230211T151146
UID:264909@https://singpromos.com
SUMMARY:Fairprice 2-Day Specials 11 - 12 Feb has Frozen Hokkaido Scallop, Dettol, Strawberry, Frozen Cod Steak and more
DESCRIPTION:Two day specials. For more information, visit [ https://singpromos.com/dining-restaurants-food/fairprice-2-day-specials-11-12-feb-has-frozen-hokkaido-scallop-dettol-strawberry-frozen-cod-steak-and-more-264909/ ]. 
LOCATION:
URL:https://singpromos.com/dining-restaurants-food/fairprice-2-day-specials-11-12-feb-has-frozen-hokkaido-scallop-dettol-strawberry-frozen-cod-steak-and-more-264909/
END:VEVENT
END:VCALENDAR