BEGIN:VCALENDAR
PRODID:-//SINGPromos.com//NONSGML v1.0//EN
VERSION:2.0
CALSCALE:GREGORIAN
METHOD:PUBLISH
X-WR-CALNAME:SINGPromos.com
X-ORIGINAL-URL:https://singpromos.com
X-WR-CALDESC:Events for SINGPromos.com
BEGIN:VEVENT
DTSTART:20230308T000000
DTEND:20230329T235900
DTSTAMP:20260422T082300
CREATED:20230307T120653
LAST-MODIFIED:20230307T120813
UID:265522@https://singpromos.com
SUMMARY:TamJai SamGor Mixian is offering 1 for 1 mixian at 3 outlets every Wednesday for the month of March
DESCRIPTION:Enjoy over 700,000 possible combinations with 6 soup bases and 10 spiciness levels to choose from.. For more information, visit [ https://singpromos.com/dining-restaurants-food/tamjai-samgor-mixian-is-offering-1-for-1-mixian-at-3-outlets-every-wednesday-for-the-month-of-march-265522/ ]. 
LOCATION:
URL:https://singpromos.com/dining-restaurants-food/tamjai-samgor-mixian-is-offering-1-for-1-mixian-at-3-outlets-every-wednesday-for-the-month-of-march-265522/
END:VEVENT
END:VCALENDAR