BEGIN:VCALENDAR
PRODID:-//SINGPromos.com//NONSGML v1.0//EN
VERSION:2.0
CALSCALE:GREGORIAN
METHOD:PUBLISH
X-WR-CALNAME:SINGPromos.com
X-ORIGINAL-URL:https://singpromos.com
X-WR-CALDESC:Events for SINGPromos.com
BEGIN:VEVENT
DTSTART:20120225T000000
DTEND:20120302T235900
DTSTAMP:20260420T214039
CREATED:20120225T131142
LAST-MODIFIED:20120226T131606
UID:26553@https://singpromos.com
SUMMARY:Harvey Norman Appliances, Sofa Sets, Notebooks & IT Products Offers 25 Feb - 2 Mar 2012
DESCRIPTION:Harvey Norman continues their Warehouse Moving Out Sale on appliances, digital cameras, notebooks, mattress, bed frames and furniture items, valid till up to 2 Mar 2012.. For more information, visit [ https://singpromos.com/computers-pc/harvey-norman-appliances-sofa-sets-notebooks-it-products-offers-25-feb-2-mar-2012-26553/ ]. 
LOCATION:
URL:https://singpromos.com/computers-pc/harvey-norman-appliances-sofa-sets-notebooks-it-products-offers-25-feb-2-mar-2012-26553/
END:VEVENT
END:VCALENDAR