BEGIN:VCALENDAR
PRODID:-//SINGPromos.com//NONSGML v1.0//EN
VERSION:2.0
CALSCALE:GREGORIAN
METHOD:PUBLISH
X-WR-CALNAME:SINGPromos.com
X-ORIGINAL-URL:https://singpromos.com
X-WR-CALDESC:Events for SINGPromos.com
BEGIN:VEVENT
DTSTART:20230316T000000
DTEND:20230319T235900
DTSTAMP:20260420T042519
CREATED:20230316T153116
LAST-MODIFIED:20230316T153815
UID:265644@https://singpromos.com
SUMMARY:Up to 80% off Giant Warehouse Sale at seven Giant outlets till 19 March 2023
DESCRIPTION:Save up to 80% on home furnishes, electrical appliances and more. For more information, visit [ https://singpromos.com/warehouse-sales/up-to-70-off-giant-warehouse-sale-at-7-hypermarket-outlets-from-17-19-march-2023-265644/ ]. 
LOCATION:
URL:https://singpromos.com/warehouse-sales/up-to-70-off-giant-warehouse-sale-at-7-hypermarket-outlets-from-17-19-march-2023-265644/
END:VEVENT
END:VCALENDAR