BEGIN:VCALENDAR
PRODID:-//SINGPromos.com//NONSGML v1.0//EN
VERSION:2.0
CALSCALE:GREGORIAN
METHOD:PUBLISH
X-WR-CALNAME:SINGPromos.com
X-ORIGINAL-URL:https://singpromos.com
X-WR-CALDESC:Events for SINGPromos.com
BEGIN:VEVENT
DTSTART:20230316T000000
DTEND:20230328T235900
DTSTAMP:20260422T082118
CREATED:20230316T155517
LAST-MODIFIED:20230316T155517
UID:265755@https://singpromos.com
SUMMARY:7-Eleven S'pore offering up to 50% off ice cream deals till 28 March, has Cornetto Royale, Magnum and more
DESCRIPTION:Get a sweet treat and enjoy yourself. For more information, visit [ https://singpromos.com/dining-restaurants-food/7-eleven-spore-offering-up-to-50-off-ice-cream-deals-till-28-march-has-cornetto-royale-magnum-and-more-265755/ ]. 
LOCATION:
URL:https://singpromos.com/dining-restaurants-food/7-eleven-spore-offering-up-to-50-off-ice-cream-deals-till-28-march-has-cornetto-royale-magnum-and-more-265755/
END:VEVENT
END:VCALENDAR