BEGIN:VCALENDAR
PRODID:-//SINGPromos.com//NONSGML v1.0//EN
VERSION:2.0
CALSCALE:GREGORIAN
METHOD:PUBLISH
X-WR-CALNAME:SINGPromos.com
X-ORIGINAL-URL:https://singpromos.com
X-WR-CALDESC:Events for SINGPromos.com
BEGIN:VEVENT
DTSTART:20230320T000000
DTEND:20230324T235900
DTSTAMP:20260420T182502
CREATED:20230320T130828
LAST-MODIFIED:20230320T131221
UID:265823@https://singpromos.com
SUMMARY:Jetstar Unbeatable Sale offers fares from S$69 to KL, Phuket, Bali and more - book by 24 Mar 2023
DESCRIPTION:Bali, Penang and more.. For more information, visit [ https://singpromos.com/airlines-flights/jetstar-unbeatable-sale-offers-fares-from-s69-to-kl-phuket-bali-and-more-book-by-24-mar-2023-265823/ ]. 
LOCATION:
URL:https://singpromos.com/airlines-flights/jetstar-unbeatable-sale-offers-fares-from-s69-to-kl-phuket-bali-and-more-book-by-24-mar-2023-265823/
END:VEVENT
END:VCALENDAR