BEGIN:VCALENDAR
PRODID:-//SINGPromos.com//NONSGML v1.0//EN
VERSION:2.0
CALSCALE:GREGORIAN
METHOD:PUBLISH
X-WR-CALNAME:SINGPromos.com
X-ORIGINAL-URL:https://singpromos.com
X-WR-CALDESC:Events for SINGPromos.com
BEGIN:VEVENT
DTSTART:20230401T000000
DTEND:20230630T235900
DTSTAMP:20260420T001452
CREATED:20230402T102453
LAST-MODIFIED:20230402T125126
UID:266180@https://singpromos.com
SUMMARY:Electrolux Mid-Year Sale offers valid till 30 June 2023
DESCRIPTION:Exclusive mid-year sales. For more information, visit [ https://singpromos.com/home-appliances/electrolux-mid-year-sale-offers-valid-till-30-june-2023-266180/ ]. 
LOCATION:
URL:https://singpromos.com/home-appliances/electrolux-mid-year-sale-offers-valid-till-30-june-2023-266180/
END:VEVENT
END:VCALENDAR