BEGIN:VCALENDAR
PRODID:-//SINGPromos.com//NONSGML v1.0//EN
VERSION:2.0
CALSCALE:GREGORIAN
METHOD:PUBLISH
X-WR-CALNAME:SINGPromos.com
X-ORIGINAL-URL:https://singpromos.com
X-WR-CALDESC:Events for SINGPromos.com
BEGIN:VEVENT
DTSTART:20230330T000000
DTEND:20230703T235900
DTSTAMP:20260422T082150
CREATED:20230404T160720
LAST-MODIFIED:20230528T222425
UID:266255@https://singpromos.com
SUMMARY:Burger King S'pore lets you save up to 53% with over 15 new ecoupon deals valid till 3 July 2023
DESCRIPTION:1-for-1 Hashbrowns, 1-for-1 Iced MILO, 50% off Whopper Jr. Meal and more. For more information, visit [ https://singpromos.com/dining-restaurants-food/burger-king-spore-lets-you-save-up-to-53-with-over-15-new-ecoupon-deals-valid-till-4-july-2023-266255/ ]. 
LOCATION:
URL:https://singpromos.com/dining-restaurants-food/burger-king-spore-lets-you-save-up-to-53-with-over-15-new-ecoupon-deals-valid-till-4-july-2023-266255/
END:VEVENT
END:VCALENDAR