BEGIN:VCALENDAR
PRODID:-//SINGPromos.com//NONSGML v1.0//EN
VERSION:2.0
CALSCALE:GREGORIAN
METHOD:PUBLISH
X-WR-CALNAME:SINGPromos.com
X-ORIGINAL-URL:https://singpromos.com
X-WR-CALDESC:Events for SINGPromos.com
BEGIN:VEVENT
DTSTART:20230404T000000
DTEND:20230420T235900
DTSTAMP:20260420T043312
CREATED:20230405T105127
LAST-MODIFIED:20230405T120021
UID:266260@https://singpromos.com
SUMMARY:Geláre offering 1-for-1 Classic Waffles at all outlets till 20 Apr 2023, 11am - 5pm daily
DESCRIPTION:Available at all outlets from 11 am - 5 pm. For more information, visit [ https://singpromos.com/dining-restaurants-food/gelare-offering-1-for-1-classic-waffles-at-all-outlets-till-20-apr-2023-11am-5pm-daily-266260/ ]. 
LOCATION:
URL:https://singpromos.com/dining-restaurants-food/gelare-offering-1-for-1-classic-waffles-at-all-outlets-till-20-apr-2023-11am-5pm-daily-266260/
END:VEVENT
END:VCALENDAR