BEGIN:VCALENDAR
PRODID:-//SINGPromos.com//NONSGML v1.0//EN
VERSION:2.0
CALSCALE:GREGORIAN
METHOD:PUBLISH
X-WR-CALNAME:SINGPromos.com
X-ORIGINAL-URL:https://singpromos.com
X-WR-CALDESC:Events for SINGPromos.com
BEGIN:VEVENT
DTSTART:20120228T000000
DTEND:20120311T235900
DTSTAMP:20260420T032141
CREATED:20120228T100848
LAST-MODIFIED:20120228T131101
UID:26632@https://singpromos.com
SUMMARY:Miss Selfridge, Warehouse, Karen Millen & MaxStudio.Com Bazaar Sale 28 Feb - 11 Mar 2012
DESCRIPTION:Miss Selfridge, Warehouse, Karen Millen & MaxStudio.Com are collectively having a Bazaar sale till 11 Mar 2012 at Wing Tai Industrial Centre, 105 Tampines Road, 12pm to 7pm. For more information, visit [ https://singpromos.com/fashion-accessories/miss-selfridge-warehouse-karen-millen-maxstudio-com-bazaar-sale-28-feb-11-mar-2012-26632/ ]. 
LOCATION:105 Tampines Road
URL:https://singpromos.com/fashion-accessories/miss-selfridge-warehouse-karen-millen-maxstudio-com-bazaar-sale-28-feb-11-mar-2012-26632/
END:VEVENT
END:VCALENDAR