BEGIN:VCALENDAR
PRODID:-//SINGPromos.com//NONSGML v1.0//EN
VERSION:2.0
CALSCALE:GREGORIAN
METHOD:PUBLISH
X-WR-CALNAME:SINGPromos.com
X-ORIGINAL-URL:https://singpromos.com
X-WR-CALDESC:Events for SINGPromos.com
BEGIN:VEVENT
DTSTART:20230401T000000
DTEND:20230420T235900
DTSTAMP:20260422T212539
CREATED:20230411T155735
LAST-MODIFIED:20230411T181045
UID:266383@https://singpromos.com
SUMMARY:Celebrate Ramadan with Philips: Up to 33% off on Grooming & Beauty till 20 Apr 2023
DESCRIPTION:Products include male grooming, beauty, and oral healthcare categories. For more information, visit [ https://singpromos.com/personal-care/celebrate-ramadan-with-philips-up-to-33-off-on-grooming-beauty-till-20-apr-2023-266383/ ]. 
LOCATION:
URL:https://singpromos.com/personal-care/celebrate-ramadan-with-philips-up-to-33-off-on-grooming-beauty-till-20-apr-2023-266383/
END:VEVENT
END:VCALENDAR