BEGIN:VCALENDAR
PRODID:-//SINGPromos.com//NONSGML v1.0//EN
VERSION:2.0
CALSCALE:GREGORIAN
METHOD:PUBLISH
X-WR-CALNAME:SINGPromos.com
X-ORIGINAL-URL:https://singpromos.com
X-WR-CALDESC:Events for SINGPromos.com
BEGIN:VEVENT
DTSTART:20230403T000000
DTEND:20230502T235900
DTSTAMP:20260422T054849
CREATED:20230411T132245
LAST-MODIFIED:20230411T132245
UID:266442@https://singpromos.com
SUMMARY:Samsung QHD, Odyssey, LED, Smart, Gaming Monitor Promotion offers till 2 May 2023
DESCRIPTION:From the Odyssey series gaming monitors to the M7 Smart Monitor. For more information, visit [ https://singpromos.com/computers-pc/samsung-qhd-odyssey-led-smart-gaming-monitor-promotion-offers-till-2-may-2023-266442/ ]. 
LOCATION:
URL:https://singpromos.com/computers-pc/samsung-qhd-odyssey-led-smart-gaming-monitor-promotion-offers-till-2-may-2023-266442/
END:VEVENT
END:VCALENDAR