BEGIN:VCALENDAR
PRODID:-//SINGPromos.com//NONSGML v1.0//EN
VERSION:2.0
CALSCALE:GREGORIAN
METHOD:PUBLISH
X-WR-CALNAME:SINGPromos.com
X-ORIGINAL-URL:https://singpromos.com
X-WR-CALDESC:Events for SINGPromos.com
BEGIN:VEVENT
DTSTART:20230413T000000
DTEND:20230416T235900
DTSTAMP:20260422T082234
CREATED:20230413T124128
LAST-MODIFIED:20230413T124409
UID:266477@https://singpromos.com
SUMMARY:Save up to 64% off Ferrero Rocher, Kinohimitsu, Listerine and more till 16 Apr at over 100 FairPrice stores
DESCRIPTION:Promotion not available at FairPrice Finest, FairPrice Xtra & Warehouse Club. For more information, visit [ https://singpromos.com/dining-restaurants-food/save-up-to-64-off-ferrero-rocher-kinohimitsu-listerine-and-more-till-16-apr-at-over-100-fairprice-stores-266477/ ]. 
LOCATION:
URL:https://singpromos.com/dining-restaurants-food/save-up-to-64-off-ferrero-rocher-kinohimitsu-listerine-and-more-till-16-apr-at-over-100-fairprice-stores-266477/
END:VEVENT
END:VCALENDAR