BEGIN:VCALENDAR
PRODID:-//SINGPromos.com//NONSGML v1.0//EN
VERSION:2.0
CALSCALE:GREGORIAN
METHOD:PUBLISH
X-WR-CALNAME:SINGPromos.com
X-ORIGINAL-URL:https://singpromos.com
X-WR-CALDESC:Events for SINGPromos.com
BEGIN:VEVENT
DTSTART:20230414T000000
DTEND:20230420T235900
DTSTAMP:20260422T054900
CREATED:20230414T180150
LAST-MODIFIED:20230414T180150
UID:266518@https://singpromos.com
SUMMARY:Dell S'pore offering $150 Cash Off on New Inspiron 14 laptop and more deals till 20 April 2023
DESCRIPTION:Watch, listen and stream your content with immersive, up-firing speakers. For more information, visit [ https://singpromos.com/computers-pc/dell-spore-offering-150-cash-off-on-new-inspiron-14-laptop-and-more-deals-till-20-april-2023-266518/ ]. 
LOCATION:
URL:https://singpromos.com/computers-pc/dell-spore-offering-150-cash-off-on-new-inspiron-14-laptop-and-more-deals-till-20-april-2023-266518/
END:VEVENT
END:VCALENDAR