BEGIN:VCALENDAR
PRODID:-//SINGPromos.com//NONSGML v1.0//EN
VERSION:2.0
CALSCALE:GREGORIAN
METHOD:PUBLISH
X-WR-CALNAME:SINGPromos.com
X-ORIGINAL-URL:https://singpromos.com
X-WR-CALDESC:Events for SINGPromos.com
BEGIN:VEVENT
DTSTART:20230504T000000
DTEND:20230625T235900
DTSTAMP:20260422T054722
CREATED:20230504T030217
LAST-MODIFIED:20230504T074907
UID:267018@https://singpromos.com
SUMMARY:Brother Inkjet Printers School Holiday Super Sale till 7 July 2023
DESCRIPTION:Brother inkjet printers' super sale. For more information, visit [ https://singpromos.com/computers-pc/brother-inkjet-printers-school-holiday-super-sale-till-7-july-2023-267018/ ]. 
LOCATION:
URL:https://singpromos.com/computers-pc/brother-inkjet-printers-school-holiday-super-sale-till-7-july-2023-267018/
END:VEVENT
END:VCALENDAR