BEGIN:VCALENDAR
PRODID:-//SINGPromos.com//NONSGML v1.0//EN
VERSION:2.0
CALSCALE:GREGORIAN
METHOD:PUBLISH
X-WR-CALNAME:SINGPromos.com
X-ORIGINAL-URL:https://singpromos.com
X-WR-CALDESC:Events for SINGPromos.com
BEGIN:VEVENT
DTSTART:20230505T000000
DTEND:20230509T235900
DTSTAMP:20260420T182442
CREATED:20230505T123206
LAST-MODIFIED:20230505T123302
UID:267092@https://singpromos.com
SUMMARY:Fares from S$69 to over 10 destinations in Jetstar's latest sale for travel up to Nov 2023, book by 9 May 2023
DESCRIPTION:Create special memories with your mom. For more information, visit [ https://singpromos.com/airlines-flights/fares-from-s69-to-over-10-destinations-in-jetstars-latest-sale-for-travel-up-to-nov-2023-book-by-9-may-2023-267092/ ]. 
LOCATION:
URL:https://singpromos.com/airlines-flights/fares-from-s69-to-over-10-destinations-in-jetstars-latest-sale-for-travel-up-to-nov-2023-book-by-9-may-2023-267092/
END:VEVENT
END:VCALENDAR