BEGIN:VCALENDAR
PRODID:-//SINGPromos.com//NONSGML v1.0//EN
VERSION:2.0
CALSCALE:GREGORIAN
METHOD:PUBLISH
X-WR-CALNAME:SINGPromos.com
X-ORIGINAL-URL:https://singpromos.com
X-WR-CALDESC:Events for SINGPromos.com
BEGIN:VEVENT
DTSTART:20230505T000000
DTEND:20230630T235900
DTSTAMP:20260422T054849
CREATED:20230505T125915
LAST-MODIFIED:20230505T132241
UID:267101@https://singpromos.com
SUMMARY:Save up to 35% off Samsung microSD, Portable SSD and Internal SSD at Samsung Official Store till 30 June 2023
DESCRIPTION:Snag the best offers right now. For more information, visit [ https://singpromos.com/computers-pc/save-up-to-35-off-with-samsung-microsd-portable-ssd-and-internal-ssd-at-samsung-official-store-till-30-june-2023-267101/ ]. 
LOCATION:
URL:https://singpromos.com/computers-pc/save-up-to-35-off-with-samsung-microsd-portable-ssd-and-internal-ssd-at-samsung-official-store-till-30-june-2023-267101/
END:VEVENT
END:VCALENDAR