BEGIN:VCALENDAR
PRODID:-//SINGPromos.com//NONSGML v1.0//EN
VERSION:2.0
CALSCALE:GREGORIAN
METHOD:PUBLISH
X-WR-CALNAME:SINGPromos.com
X-ORIGINAL-URL:https://singpromos.com
X-WR-CALDESC:Events for SINGPromos.com
BEGIN:VEVENT
DTSTART:20230504T000000
DTEND:20230507T235900
DTSTAMP:20260420T232524
CREATED:20230505T141416
LAST-MODIFIED:20230505T141416
UID:267110@https://singpromos.com
SUMMARY:Save up to 50% off Dreyer's Ice Cream, Lux, Zebra, Dynamo and more till 7 May at over 100 FairPrice stores
DESCRIPTION:Promotion not available at FairPrice Finest, FairPrice Xtra & Warehouse Club. For more information, visit [ https://singpromos.com/dining-restaurants-food/save-up-to-50-off-dreyers-ice-cream-lux-zebra-dynamo-and-more-till-7-may-at-over-100-fairprice-stores-267110/ ]. 
LOCATION:
URL:https://singpromos.com/dining-restaurants-food/save-up-to-50-off-dreyers-ice-cream-lux-zebra-dynamo-and-more-till-7-may-at-over-100-fairprice-stores-267110/
END:VEVENT
END:VCALENDAR