BEGIN:VCALENDAR
PRODID:-//SINGPromos.com//NONSGML v1.0//EN
VERSION:2.0
CALSCALE:GREGORIAN
METHOD:PUBLISH
X-WR-CALNAME:SINGPromos.com
X-ORIGINAL-URL:https://singpromos.com
X-WR-CALDESC:Events for SINGPromos.com
BEGIN:VEVENT
DTSTART:20230512T000000
DTEND:20230525T235900
DTSTAMP:20260422T073831
CREATED:20230512T163001
LAST-MODIFIED:20230512T163345
UID:267287@https://singpromos.com
SUMMARY:Dell S'pore offering $200 Cash Off on New XPS 13 Plus laptop till 25 May 2023
DESCRIPTION:A stunning combination of speed, performance and premium mobility.. For more information, visit [ https://singpromos.com/computers-pc/dell-spore-offering-200-cash-off-on-new-xps-13-plus-laptop-till-25-may-2023-267287/ ]. 
LOCATION:
URL:https://singpromos.com/computers-pc/dell-spore-offering-200-cash-off-on-new-xps-13-plus-laptop-till-25-may-2023-267287/
END:VEVENT
END:VCALENDAR