BEGIN:VCALENDAR
PRODID:-//SINGPromos.com//NONSGML v1.0//EN
VERSION:2.0
CALSCALE:GREGORIAN
METHOD:PUBLISH
X-WR-CALNAME:SINGPromos.com
X-ORIGINAL-URL:https://singpromos.com
X-WR-CALDESC:Events for SINGPromos.com
BEGIN:VEVENT
DTSTART:20230513T000000
DTEND:20230521T235900
DTSTAMP:20260420T043257
CREATED:20230513T100001
LAST-MODIFIED:20230513T100001
UID:267299@https://singpromos.com
SUMMARY:$3.80 (U.P. $5.80) scoops of ice cream at 3 Geláre outlets from Fri - Sun till 21 May 2023
DESCRIPTION:Flash sale. For more information, visit [ https://singpromos.com/dining-restaurants-food/3-80-u-p-5-80-scoops-of-ice-cream-at-3-gelare-outlets-from-fri-sun-till-21-may-2023-267299/ ]. 
LOCATION:
URL:https://singpromos.com/dining-restaurants-food/3-80-u-p-5-80-scoops-of-ice-cream-at-3-gelare-outlets-from-fri-sun-till-21-may-2023-267299/
END:VEVENT
END:VCALENDAR