BEGIN:VCALENDAR
PRODID:-//SINGPromos.com//NONSGML v1.0//EN
VERSION:2.0
CALSCALE:GREGORIAN
METHOD:PUBLISH
X-WR-CALNAME:SINGPromos.com
X-ORIGINAL-URL:https://singpromos.com
X-WR-CALDESC:Events for SINGPromos.com
BEGIN:VEVENT
DTSTART:20120301T000000
DTEND:20120307T235900
DTSTAMP:20260420T214023
CREATED:20120301T164723
LAST-MODIFIED:20120301T164723
UID:26733@https://singpromos.com
SUMMARY:Harvey Norman Notebooks Promotion Offers 1 - 7 Mar 2012
DESCRIPTION:Here are some "ultra irresistible" deals on notebooks and ultrabooks from Harvey Norman. Notebooks listed are SAMSUNG 5 ULTRABOOK 530U3B-A02SG Notebook and more. For more information, visit [ https://singpromos.com/computers-pc/harvey-norman-notebooks-promotion-offers-1-7-mar-2012-26733/ ]. 
LOCATION:
URL:https://singpromos.com/computers-pc/harvey-norman-notebooks-promotion-offers-1-7-mar-2012-26733/
END:VEVENT
END:VCALENDAR