BEGIN:VCALENDAR
PRODID:-//SINGPromos.com//NONSGML v1.0//EN
VERSION:2.0
CALSCALE:GREGORIAN
METHOD:PUBLISH
X-WR-CALNAME:SINGPromos.com
X-ORIGINAL-URL:https://singpromos.com
X-WR-CALDESC:Events for SINGPromos.com
BEGIN:VEVENT
DTSTART:20230518T000000
DTEND:20230518T235900
DTSTAMP:20260420T005558
CREATED:20230518T075436
LAST-MODIFIED:20230518T075436
UID:267379@https://singpromos.com
SUMMARY:Amazon.sg giving S$8 off when you spend min S$160 with DBS/POSB cards on 18 May 2023
DESCRIPTION:Can be stacked with other offers, including coupons, discounts and promotion codes. For more information, visit [ https://singpromos.com/department-stores/amazon-sg-giving-s8-off-when-you-spend-min-s160-with-dbs-posb-cards-on-18-may-2023-267379/ ]. 
LOCATION:
URL:https://singpromos.com/department-stores/amazon-sg-giving-s8-off-when-you-spend-min-s160-with-dbs-posb-cards-on-18-may-2023-267379/
END:VEVENT
END:VCALENDAR