BEGIN:VCALENDAR
PRODID:-//SINGPromos.com//NONSGML v1.0//EN
VERSION:2.0
CALSCALE:GREGORIAN
METHOD:PUBLISH
X-WR-CALNAME:SINGPromos.com
X-ORIGINAL-URL:https://singpromos.com
X-WR-CALDESC:Events for SINGPromos.com
BEGIN:VEVENT
DTSTART:20230523T000000
DTEND:20230622T235900
DTSTAMP:20260420T042601
CREATED:20230523T212038
LAST-MODIFIED:20230523T212737
UID:267501@https://singpromos.com
SUMMARY:Durians from as low as $2 at Giant Tampines till 22 June 2023, has MSW, Black Pearl, Golden Phoenix, D101, D13
DESCRIPTION:Get your hands on the King of fruits, while stocks last. For more information, visit [ https://singpromos.com/dining-restaurants-food/durians-from-as-low-as-2-at-giant-tampines-till-22-june-2023-has-msw-black-pearl-golden-phoenix-d101-d13-267501/ ]. 
LOCATION:528765
URL:https://singpromos.com/dining-restaurants-food/durians-from-as-low-as-2-at-giant-tampines-till-22-june-2023-has-msw-black-pearl-golden-phoenix-d101-d13-267501/
END:VEVENT
END:VCALENDAR