BEGIN:VCALENDAR
PRODID:-//SINGPromos.com//NONSGML v1.0//EN
VERSION:2.0
CALSCALE:GREGORIAN
METHOD:PUBLISH
X-WR-CALNAME:SINGPromos.com
X-ORIGINAL-URL:https://singpromos.com
X-WR-CALDESC:Events for SINGPromos.com
BEGIN:VEVENT
DTSTART:20230608T000000
DTEND:20230612T235900
DTSTAMP:20260420T200230
CREATED:20230608T120040
LAST-MODIFIED:20230608T150708
UID:267909@https://singpromos.com
SUMMARY:Fly fr S$69 to over 10 destinations in Jetstar's latest sale for travel up to 29 Nov 2023, book by 12 Jun 2023
DESCRIPTION:Treat your Superdad to the ultimate gift of travel. For more information, visit [ https://singpromos.com/airlines-flights/fly-fr-s69-to-over-10-destinations-in-jetstars-latest-sale-for-travel-up-to-29-nov-2023-book-by-12-jun-2023-267909/ ]. 
LOCATION:
URL:https://singpromos.com/airlines-flights/fly-fr-s69-to-over-10-destinations-in-jetstars-latest-sale-for-travel-up-to-29-nov-2023-book-by-12-jun-2023-267909/
END:VEVENT
END:VCALENDAR