BEGIN:VCALENDAR
PRODID:-//SINGPromos.com//NONSGML v1.0//EN
VERSION:2.0
CALSCALE:GREGORIAN
METHOD:PUBLISH
X-WR-CALNAME:SINGPromos.com
X-ORIGINAL-URL:https://singpromos.com
X-WR-CALDESC:Events for SINGPromos.com
BEGIN:VEVENT
DTSTART:20230621T000000
DTEND:20230706T235900
DTSTAMP:20260422T073815
CREATED:20230621T052636
LAST-MODIFIED:20230705T233144
UID:268145@https://singpromos.com
SUMMARY:Parallels is offering 25% off Parallels Desktop software birthday sale till 6 July 2023
DESCRIPTION:For a limited time, get 25% off Parallels software. For more information, visit [ https://singpromos.com/computers-pc/parallels-is-offering-25-off-parallels-desktop-software-birthday-sale-till-5-july-2023-268145/ ]. 
LOCATION:
URL:https://singpromos.com/computers-pc/parallels-is-offering-25-off-parallels-desktop-software-birthday-sale-till-5-july-2023-268145/
END:VEVENT
END:VCALENDAR