BEGIN:VCALENDAR
PRODID:-//SINGPromos.com//NONSGML v1.0//EN
VERSION:2.0
CALSCALE:GREGORIAN
METHOD:PUBLISH
X-WR-CALNAME:SINGPromos.com
X-ORIGINAL-URL:https://singpromos.com
X-WR-CALDESC:Events for SINGPromos.com
BEGIN:VEVENT
DTSTART:20230622T000000
DTEND:20230625T235900
DTSTAMP:20260420T182350
CREATED:20230622T123540
LAST-MODIFIED:20230622T123540
UID:268196@https://singpromos.com
SUMMARY:Jetstar's Book-a-Break Sale has fares fr S$65 to 10 destinations for travel up to 30 Nov, book by 25 Jun 2023
DESCRIPTION:Sale fares to Bali, Phnom Penh, Phuket and more up for grabs. For more information, visit [ https://singpromos.com/airlines-flights/jetstars-book-a-break-sale-has-fares-fr-s65-to-10-destinations-for-travel-up-to-30-nov-book-by-25-jun-2023-268196/ ]. 
LOCATION:
URL:https://singpromos.com/airlines-flights/jetstars-book-a-break-sale-has-fares-fr-s65-to-10-destinations-for-travel-up-to-30-nov-book-by-25-jun-2023-268196/
END:VEVENT
END:VCALENDAR