BEGIN:VCALENDAR
PRODID:-//SINGPromos.com//NONSGML v1.0//EN
VERSION:2.0
CALSCALE:GREGORIAN
METHOD:PUBLISH
X-WR-CALNAME:SINGPromos.com
X-ORIGINAL-URL:https://singpromos.com
X-WR-CALDESC:Events for SINGPromos.com
BEGIN:VEVENT
DTSTART:20230704T000000
DTEND:20231001T235900
DTSTAMP:20260422T082308
CREATED:20230704T180804
LAST-MODIFIED:20230704T181137
UID:268514@https://singpromos.com
SUMMARY:Save up to 53% with Burger King S'pore latest 16 new ecoupon deals valid till 1 Oct 2023
DESCRIPTION:1-for-1 Strawberry Sundae, Hashbrowns, Chicken Nuggets, 48% off 2x WHOPPER Jr. and more. For more information, visit [ https://singpromos.com/dining-restaurants-food/save-up-to-53-with-burger-king-spore-latest-16-new-ecoupon-deals-valid-till-1-oct-2023-268514/ ]. 
LOCATION:
URL:https://singpromos.com/dining-restaurants-food/save-up-to-53-with-burger-king-spore-latest-16-new-ecoupon-deals-valid-till-1-oct-2023-268514/
END:VEVENT
END:VCALENDAR