BEGIN:VCALENDAR
PRODID:-//SINGPromos.com//NONSGML v1.0//EN
VERSION:2.0
CALSCALE:GREGORIAN
METHOD:PUBLISH
X-WR-CALNAME:SINGPromos.com
X-ORIGINAL-URL:https://singpromos.com
X-WR-CALDESC:Events for SINGPromos.com
BEGIN:VEVENT
DTSTART:20230706T000000
DTEND:20230707T235900
DTSTAMP:20260422T082306
CREATED:20230705T183321
LAST-MODIFIED:20230705T183321
UID:268528@https://singpromos.com
SUMMARY:The Leeden Store Warehouse Sale from 6 - 7 July 2023
DESCRIPTION:Up to 85% Off. For more information, visit [ https://singpromos.com/warehouse-sales/the-leeden-store-warehouse-sale-from-6-7-july-2023-268528/ ]. 
LOCATION:1 Shipyard Rd, 628128
URL:https://singpromos.com/warehouse-sales/the-leeden-store-warehouse-sale-from-6-7-july-2023-268528/
END:VEVENT
END:VCALENDAR