BEGIN:VCALENDAR
PRODID:-//SINGPromos.com//NONSGML v1.0//EN
VERSION:2.0
CALSCALE:GREGORIAN
METHOD:PUBLISH
X-WR-CALNAME:SINGPromos.com
X-ORIGINAL-URL:https://singpromos.com
X-WR-CALDESC:Events for SINGPromos.com
BEGIN:VEVENT
DTSTART:20230706T000000
DTEND:20230709T235900
DTSTAMP:20260422T060837
CREATED:20230706T033309
LAST-MODIFIED:20230705T233331
UID:268577@https://singpromos.com
SUMMARY:OG Department Stores offering 20% OFF regular-priced items storewide at all outlets till 9 July 2023
DESCRIPTION:20%* off regular-priced items storewide. For more information, visit [ https://singpromos.com/department-stores/og-department-stores-offering-20-off-regular-priced-items-storewide-at-all-outlets-till-9-july-2023-268577/ ]. 
LOCATION:
URL:https://singpromos.com/department-stores/og-department-stores-offering-20-off-regular-priced-items-storewide-at-all-outlets-till-9-july-2023-268577/
END:VEVENT
END:VCALENDAR