BEGIN:VCALENDAR
PRODID:-//SINGPromos.com//NONSGML v1.0//EN
VERSION:2.0
CALSCALE:GREGORIAN
METHOD:PUBLISH
X-WR-CALNAME:SINGPromos.com
X-ORIGINAL-URL:https://singpromos.com
X-WR-CALDESC:Events for SINGPromos.com
BEGIN:VEVENT
DTSTART:20230706T000000
DTEND:20230709T235900
DTSTAMP:20260420T182429
CREATED:20230706T124708
LAST-MODIFIED:20230706T125057
UID:268597@https://singpromos.com
SUMMARY:Jetstar's latest sale has fares fr S$65 to over 10 destinations for travel up to Nov 2023, book by 9 July 2023
DESCRIPTION:Bangkok, Bali, Manila and more on sale. For more information, visit [ https://singpromos.com/airlines-flights/jetstars-latest-sale-has-fares-fr-s65-to-over-10-destinations-for-travel-up-to-nov-2023-book-by-9-july-2023-268597/ ]. 
LOCATION:
URL:https://singpromos.com/airlines-flights/jetstars-latest-sale-has-fares-fr-s65-to-over-10-destinations-for-travel-up-to-nov-2023-book-by-9-july-2023-268597/
END:VEVENT
END:VCALENDAR