BEGIN:VCALENDAR
PRODID:-//SINGPromos.com//NONSGML v1.0//EN
VERSION:2.0
CALSCALE:GREGORIAN
METHOD:PUBLISH
X-WR-CALNAME:SINGPromos.com
X-ORIGINAL-URL:https://singpromos.com
X-WR-CALDESC:Events for SINGPromos.com
BEGIN:VEVENT
DTSTART:20230701T000000
DTEND:20230831T235900
DTSTAMP:20260422T073932
CREATED:20230701T015428
LAST-MODIFIED:20230911T182918
UID:268623@https://singpromos.com
SUMMARY:Logitech and Logitech G promotion offers at retail stores and online till 31 August 2023
DESCRIPTION:Gain the upper edge for your games. For more information, visit [ https://singpromos.com/computers-pc/logitech-and-logitech-g-promotion-offers-at-retail-stores-and-online-till-31-august-2023-268623/ ]. 
LOCATION:
URL:https://singpromos.com/computers-pc/logitech-and-logitech-g-promotion-offers-at-retail-stores-and-online-till-31-august-2023-268623/
END:VEVENT
END:VCALENDAR