BEGIN:VCALENDAR
PRODID:-//SINGPromos.com//NONSGML v1.0//EN
VERSION:2.0
CALSCALE:GREGORIAN
METHOD:PUBLISH
X-WR-CALNAME:SINGPromos.com
X-ORIGINAL-URL:https://singpromos.com
X-WR-CALDESC:Events for SINGPromos.com
BEGIN:VEVENT
DTSTART:20230708T000000
DTEND:20230731T235900
DTSTAMP:20260422T072934
CREATED:20230708T104922
LAST-MODIFIED:20230708T105030
UID:268653@https://singpromos.com
SUMMARY:Dell S'pore clearance has up to $1,400 Cash Off on Alienware m15 R7 laptop till 31 July 2023
DESCRIPTION:Play with cutting-edge gaming technology. For more information, visit [ https://singpromos.com/computers-pc/dell-spore-clearance-has-up-to-1400-cash-off-on-alienware-m15-r7-laptop-till-31-july-2023-268653/ ]. 
LOCATION:
URL:https://singpromos.com/computers-pc/dell-spore-clearance-has-up-to-1400-cash-off-on-alienware-m15-r7-laptop-till-31-july-2023-268653/
END:VEVENT
END:VCALENDAR