BEGIN:VCALENDAR
PRODID:-//SINGPromos.com//NONSGML v1.0//EN
VERSION:2.0
CALSCALE:GREGORIAN
METHOD:PUBLISH
X-WR-CALNAME:SINGPromos.com
X-ORIGINAL-URL:https://singpromos.com
X-WR-CALDESC:Events for SINGPromos.com
BEGIN:VEVENT
DTSTART:20230711T000000
DTEND:20230713T235900
DTSTAMP:20260422T082310
CREATED:20230711T125336
LAST-MODIFIED:20230711T125336
UID:268741@https://singpromos.com
SUMMARY:Amazon.sg July 2023 Prime Day Best Deals and Top Deals valid till 13 July 2023
DESCRIPTION:Amazon.sg Prime Day. For more information, visit [ https://singpromos.com/department-stores/amazon-sg-july-2023-prime-day-best-deals-and-top-deals-valid-till-13-july-2023-268741/ ]. 
LOCATION:
URL:https://singpromos.com/department-stores/amazon-sg-july-2023-prime-day-best-deals-and-top-deals-valid-till-13-july-2023-268741/
END:VEVENT
END:VCALENDAR