BEGIN:VCALENDAR
PRODID:-//SINGPromos.com//NONSGML v1.0//EN
VERSION:2.0
CALSCALE:GREGORIAN
METHOD:PUBLISH
X-WR-CALNAME:SINGPromos.com
X-ORIGINAL-URL:https://singpromos.com
X-WR-CALDESC:Events for SINGPromos.com
BEGIN:VEVENT
DTSTART:20230712T000000
DTEND:20230803T235900
DTSTAMP:20260420T045000
CREATED:20230712T190239
LAST-MODIFIED:20230712T190616
UID:268794@https://singpromos.com
SUMMARY:Singapore Airlines offering promo fares fr S$148 to over 45 destinations till 3 Aug for travel up to 24 May 24
DESCRIPTION:Valid for travel during selected periods from now till 24 May 2024, blackout periods apply. For more information, visit [ https://singpromos.com/airlines-flights/singapore-airlines-offering-promo-fares-fr-s148-to-over-45-destinations-till-3-aug-for-travel-up-to-24-may-24-268794/ ]. 
LOCATION:
URL:https://singpromos.com/airlines-flights/singapore-airlines-offering-promo-fares-fr-s148-to-over-45-destinations-till-3-aug-for-travel-up-to-24-may-24-268794/
END:VEVENT
END:VCALENDAR