BEGIN:VCALENDAR
PRODID:-//SINGPromos.com//NONSGML v1.0//EN
VERSION:2.0
CALSCALE:GREGORIAN
METHOD:PUBLISH
X-WR-CALNAME:SINGPromos.com
X-ORIGINAL-URL:https://singpromos.com
X-WR-CALDESC:Events for SINGPromos.com
BEGIN:VEVENT
DTSTART:20230714T000000
DTEND:20230716T235900
DTSTAMP:20260420T000319
CREATED:20230714T125148
LAST-MODIFIED:20230715T111922
UID:268819@https://singpromos.com
SUMMARY:Famous Amos S'pore has 1-for-1 Cookie in Bag deal at only $14.90 (UP. $29.80) till 16 July 2023
DESCRIPTION:Share the delectable cookies with your loved ones this weekend. For more information, visit [ https://singpromos.com/dining-restaurants-food/famous-amos-spore-has-1-for-1-cookie-in-bag-deal-at-only-14-90-up-29-80-till-16-july-2023-268819/ ]. 
LOCATION:
URL:https://singpromos.com/dining-restaurants-food/famous-amos-spore-has-1-for-1-cookie-in-bag-deal-at-only-14-90-up-29-80-till-16-july-2023-268819/
END:VEVENT
END:VCALENDAR