BEGIN:VCALENDAR
PRODID:-//SINGPromos.com//NONSGML v1.0//EN
VERSION:2.0
CALSCALE:GREGORIAN
METHOD:PUBLISH
X-WR-CALNAME:SINGPromos.com
X-ORIGINAL-URL:https://singpromos.com
X-WR-CALDESC:Events for SINGPromos.com
BEGIN:VEVENT
DTSTART:20230720T000000
DTEND:20230903T235900
DTSTAMP:20260422T072950
CREATED:20230720T160832
LAST-MODIFIED:20230720T160832
UID:268992@https://singpromos.com
SUMMARY:Brother Printers Islandwide Promotion Sale till 3 Sep 2023
DESCRIPTION:Calling all businesses and students. For more information, visit [ https://singpromos.com/computers-pc/brother-printers-islandwide-promotion-sale-till-3-sep-2023-268992/ ]. 
LOCATION:
URL:https://singpromos.com/computers-pc/brother-printers-islandwide-promotion-sale-till-3-sep-2023-268992/
END:VEVENT
END:VCALENDAR